BEGIN:VCALENDAR
VERSION:2.0
PRODID:-//Inland Northwest Wildlife Council - ECPv6.15.20//NONSGML v1.0//EN
CALSCALE:GREGORIAN
METHOD:PUBLISH
X-ORIGINAL-URL:https://www.inwc.org
X-WR-CALDESC:Events for Inland Northwest Wildlife Council
REFRESH-INTERVAL;VALUE=DURATION:PT1H
X-Robots-Tag:noindex
X-PUBLISHED-TTL:PT1H
BEGIN:VTIMEZONE
TZID:America/Los_Angeles
BEGIN:DAYLIGHT
TZOFFSETFROM:-0800
TZOFFSETTO:-0700
TZNAME:PDT
DTSTART:20220313T100000
END:DAYLIGHT
BEGIN:STANDARD
TZOFFSETFROM:-0700
TZOFFSETTO:-0800
TZNAME:PST
DTSTART:20221106T090000
END:STANDARD
BEGIN:DAYLIGHT
TZOFFSETFROM:-0800
TZOFFSETTO:-0700
TZNAME:PDT
DTSTART:20230312T100000
END:DAYLIGHT
BEGIN:STANDARD
TZOFFSETFROM:-0700
TZOFFSETTO:-0800
TZNAME:PST
DTSTART:20231105T090000
END:STANDARD
BEGIN:DAYLIGHT
TZOFFSETFROM:-0800
TZOFFSETTO:-0700
TZNAME:PDT
DTSTART:20240310T100000
END:DAYLIGHT
BEGIN:STANDARD
TZOFFSETFROM:-0700
TZOFFSETTO:-0800
TZNAME:PST
DTSTART:20241103T090000
END:STANDARD
BEGIN:DAYLIGHT
TZOFFSETFROM:-0800
TZOFFSETTO:-0700
TZNAME:PDT
DTSTART:20250309T100000
END:DAYLIGHT
BEGIN:STANDARD
TZOFFSETFROM:-0700
TZOFFSETTO:-0800
TZNAME:PST
DTSTART:20251102T090000
END:STANDARD
END:VTIMEZONE
BEGIN:VEVENT
DTSTART;TZID=America/Los_Angeles:20241005T073000
DTEND;TZID=America/Los_Angeles:20241005T120000
DTSTAMP:20260423T074052
CREATED:20240921T145251Z
LAST-MODIFIED:20240926T223251Z
UID:7192-1728113400-1728129600@www.inwc.org
SUMMARY:Wheelchair Platform Install
DESCRIPTION:ADA hunting opportunity on private land near Usk\, WA.  We will be installing a wheelchair platform/ramp to assist hunters with disabilities.  It will be in a prime location in a small grove of cedars with multiple shooting lanes. \nWe will muster at the INWC Warehouse at 7:30am\, get the platform loaded on the flatbed\, and head out by 8am.  Dress appropriate for the expected weather\, bring gloves and water.  Let’s do this!!! \nPlease contact the Disabled Access Team with any questions: access@inwc.org
URL:https://www.inwc.org/event/wheelchair-platform-install/
LOCATION:WA
ATTACH;FMTTYPE=image/jpeg:https://www.inwc.org/wp-content/uploads/2024/09/281634700_10162086101322119_3731995429573561625_n.jpg
END:VEVENT
BEGIN:VEVENT
DTSTART;VALUE=DATE:20241002
DTEND;VALUE=DATE:20241003
DTSTAMP:20260423T074052
CREATED:20240722T200920Z
LAST-MODIFIED:20240921T142504Z
UID:7106-1727827200-1727913599@www.inwc.org
SUMMARY:ADA Route Patrol - Boundary Mtn
DESCRIPTION:Join us as we patrol Boundary Mountain in the Colville National Forest that has been gated off for Disabled Access Only. We will patrol each of the spurs along this route\, cutting away deadfall\, ensuring that sportsmen\, women\, and youth with disabilities have access to the entirety of each route. \nATV’s and SxS’s are welcome and encouraged. Chain saws\, loppers are needed\, as well as clothing appropriate for expected weather conditions\, gloves\, bottled water\, etc.\n \nStaging Area Location:  https://maps.app.goo.gl/ePSBv2puC3Ko2Vsg7\n \nContact the Disabled Access Team for more info: access@inwc.org
URL:https://www.inwc.org/event/ada-route-patrol-boundary-mtn/
LOCATION:WA
ORGANIZER;CN="Disabled Access Team":MAILTO:access@inwc.org
END:VEVENT
BEGIN:VEVENT
DTSTART;TZID=America/Los_Angeles:20240928T080000
DTEND;TZID=America/Los_Angeles:20240928T130000
DTSTAMP:20260423T074052
CREATED:20240921T144102Z
LAST-MODIFIED:20240921T145612Z
UID:7188-1727510400-1727528400@www.inwc.org
SUMMARY:ADA Duck Blind Install
DESCRIPTION:Join us as we conduct a 1st for the INWC: Not only have we built an ADA duck blind for the 1st time\, now we are installing it on private land that is part of WDFW’s Hunt by Reservation program.  We will muster at the INWC Warehouse at 8am\, and head north to the location near Clayton.  This project will need many hands as the blind will be transported in sections and many are too awkward for just two people to handle. \nYou were looking for something to do that Saturday anyways … so come be part of something bigger\, and pay it forward for those with mobility challenges. \nContact the Disabled Access Team with any questions: access@inwc.org \nInstall location:  https://maps.app.goo.gl/PkzPr33Gfr6CFWRz9
URL:https://www.inwc.org/event/ada-duck-blind-install/
LOCATION:Clayton\, WA\, https://maps.app.goo.gl/PkzPr33Gfr6CFWRz9
ATTACH;FMTTYPE=image/jpeg:https://www.inwc.org/wp-content/uploads/2024/09/thumbnail_20240515_090521-1.jpg
ORGANIZER;CN="Disabled Access Team":MAILTO:access@inwc.org
END:VEVENT
BEGIN:VEVENT
DTSTART;VALUE=DATE:20240920
DTEND;VALUE=DATE:20240921
DTSTAMP:20260423T074052
CREATED:20240327T192949Z
LAST-MODIFIED:20240921T142640Z
UID:6868-1726790400-1726876799@www.inwc.org
SUMMARY:ADA Route Patrols:  Betty Creek
DESCRIPTION:Looking for a way to give back? Looking for a community service project?\n \nJoin us as we patrol two routes on Betty Creek in the Colville National Forest that have been gated off for Disabled Access Only. We will patrol both of the routes: the 810 and the 830\, including their respective spurs\, cutting away deadfall\, ensuring that sportsmen\, women\, and youth with disabilities have access to the entirety of each route. \n \nATV’s and SxS’s are welcome and encouraged. Chain saws\, loppers are needed\, as well as clothing appropriate for expected weather conditions\, gloves\, bottled water\, etc.\n \nStaging Area Location:  https://maps.app.goo.gl/ByjgyqbFbTm8b4MJ9\n(aka “Camp Betty”)\n \nContact the Disabled Access Team for more info: access@inwc.org
URL:https://www.inwc.org/event/ada-route-patrols-betty-creek/
LOCATION:Camp Betty
ATTACH;FMTTYPE=image/jpeg:https://www.inwc.org/wp-content/uploads/2024/03/428699043_800588055419429_2075805058470166722_n.jpg
ORGANIZER;CN="Disabled Access Team":MAILTO:access@inwc.org
END:VEVENT
BEGIN:VEVENT
DTSTART;TZID=America/Los_Angeles:20240802T080000
DTEND;TZID=America/Los_Angeles:20240804T170000
DTSTAMP:20260423T074052
CREATED:20240327T193415Z
LAST-MODIFIED:20240722T191006Z
UID:6871-1722585600-1722790800@www.inwc.org
SUMMARY:ADA Route Patrols:  Boundary Mtn - RESCHEDULED!
DESCRIPTION:Rescheduled from Jul 13-14 to Jul 25th due to high heat.\nJoin us as we patrol Boundary Mountain in the Colville National Forest that has been gated off for Disabled Access Only. We will patrol each of the spurs along this route\, cutting away deadfall\, ensuring that sportsmen\, women\, and youth with disabilities have access to the entirety of each route. Any work that does not get completed on Saturday; we will wrap up on Sunday. We will be camping overnight to make that easier\, and usually share a group dinner around the campfire. Team leaders for the project will arrive on Friday to secure a camp area\, feel free to join them!\nATV’s and SxS’s are welcome\, and encouraged. Chain saws\, loppers are needed\, as well as clothing appropriate for expected weather conditions\, gloves\, bottled water\, etc.\n \nBase Camp Location:  https://maps.app.goo.gl/ePSBv2puC3Ko2Vsg7\n \nContact the Disabled Access Team for more info: access@inwc.org
URL:https://www.inwc.org/event/ada-route-patrols-boundary-mtn/
LOCATION:WA
ATTACH;FMTTYPE=image/jpeg:https://www.inwc.org/wp-content/uploads/2024/03/283150260_10162086101242119_4056853729020834098_n.jpg
ORGANIZER;CN="Disabled Access Team":MAILTO:access@inwc.org
END:VEVENT
BEGIN:VEVENT
DTSTART;TZID=America/Los_Angeles:20240728T110000
DTEND;TZID=America/Los_Angeles:20240728T160000
DTSTAMP:20260423T074052
CREATED:20240522T004917Z
LAST-MODIFIED:20240522T005421Z
UID:7034-1722164400-1722182400@www.inwc.org
SUMMARY:INWC Family Picnic
DESCRIPTION:Sunday\, July 28th – Save the Date!  Clear Lake Resort \nBurgers and Brats are on us!  \nBring a favorite side dish\, a camp chair and beverage of your choice.  Don’t forget the kids! \nBuns\, condiments\, plates\, silverware are provided.  Feel free to bring your boat\, fishing gear\, and a smile!
URL:https://www.inwc.org/event/inwc-family-picnic/
LOCATION:Clear Lake Resort\, 14824 S Clear Lake Rd\, Cheney\, WA\, Cheney\, WA\, 99004\, United States
ORGANIZER;CN="INWC":MAILTO:office@inwc.org
END:VEVENT
BEGIN:VEVENT
DTSTART;VALUE=DATE:20240907
DTEND;VALUE=DATE:20240909
DTSTAMP:20260423T074052
CREATED:20240327T191842Z
LAST-MODIFIED:20240903T220721Z
UID:6861-1725667200-1725839999@www.inwc.org
SUMMARY:ADA Route Patrols: Aladdin Mtn & Squirrel Meadows
DESCRIPTION:Looking for a way to give back? Looking for a community service project?\nJoin us as we patrol two routes in the Colville National Forest that have been gated off for Disabled Access Only. With enough volunteers\, we will send 1/2 up Aladdin Mtn and the other 1/2 out to Squirrel Meadows.  We will patrol each of the routes\, cutting away deadfall\, ensuring that sportsmen\, women\, and youth with disabilities have access to the entirety of each route. Any work that does not get completed on Saturday\, we will wrap up on Sunday. We will be camping overnight to make that easier\, and usually share a group dinner around the campfire. Team leaders for the project will arrive on Friday to secure a camp area\, feel free to join them!\nATV’s and SxS’s are welcome and encouraged. Chain saws\, loppers are needed\, as well as clothing appropriate for expected weather conditions\, gloves\, bottled water\, etc.\n \nBase Camp Location:  https://maps.app.goo.gl/QHSxVNSxhfzUqVGb9\n \nContact the Disabled Access Team for more info: access@inwc.org
URL:https://www.inwc.org/event/ada-route-patrols-aladdin-mtn-squirrel-meadows/
LOCATION:Tiger Meadows\, https://maps.app.goo.gl/hafEXfA8Xip1GXv76
ATTACH;FMTTYPE=image/jpeg:https://www.inwc.org/wp-content/uploads/2024/03/273030109_4447696261996675_5965698078066065696_n.jpg
ORGANIZER;CN="Disabled Access Team":MAILTO:access@inwc.org
END:VEVENT
BEGIN:VEVENT
DTSTART;VALUE=DATE:20240824
DTEND;VALUE=DATE:20240826
DTSTAMP:20260423T074052
CREATED:20240327T191054Z
LAST-MODIFIED:20240722T193133Z
UID:6858-1724457600-1724630399@www.inwc.org
SUMMARY:ADA Route Patrols: Brewer Mtn & Mitchell Mtn
DESCRIPTION:Looking for a way to give back? Looking for a community service project?\nJoin us as we patrol two routes in the Colville National Forest that have been gated off for Disabled Access Only. We will patrol each of the routes\, Brewer Mtn and Mitchell Mtn\, cutting away deadfall\, ensuring that sportsmen\, women\, and youth with disabilities have access to the entirety of each route. Any work that does not get completed on Saturday\, we will wrap up on Sunday. We will be camping overnight to make that easier\, and usually share a group dinner around the campfire. Team leaders for the project will arrive on Friday to secure a camp area\, feel free to join them!\nATV’s and SxS’s are welcome and encouraged. Chain saws\, loppers are needed\, as well as clothing appropriate for expected weather conditions\, gloves\, bottled water\, etc.\n \nBase Camp Location: https://maps.app.goo.gl/XnjmDtfHsthLaHnP9\n \nContact the Disabled Access Team for more info: access@inwc.org
URL:https://www.inwc.org/event/ada-route-patrols-brewer-mtn-mitchell-mtn/
LOCATION:WA
ATTACH;FMTTYPE=image/jpeg:https://www.inwc.org/wp-content/uploads/2024/03/283654079_10162086018662119_4059629808610569531_n.jpg
ORGANIZER;CN="Disabled Access Team":MAILTO:access@inwc.org
END:VEVENT
BEGIN:VEVENT
DTSTART;TZID=America/Los_Angeles:20240511T080000
DTEND;TZID=America/Los_Angeles:20240511T160000
DTSTAMP:20260423T074052
CREATED:20240327T182918Z
LAST-MODIFIED:20240327T182918Z
UID:6848-1715414400-1715443200@www.inwc.org
SUMMARY:Kids Fishing Day
DESCRIPTION:The Annual Kids Fishing Day event is coming up fast\, May 11th\, at Clear Lake Resort.  Bring two or more canned goods and be entered to win a prize from one of our sponsors.
URL:https://www.inwc.org/event/kids-fishing-day/
LOCATION:Clear Lake\, 14824 S Clear Lake Rd\, Cheney\, WA\, 99004\, United States
ATTACH;FMTTYPE=image/jpeg:https://www.inwc.org/wp-content/uploads/2024/03/333902528_152604654320124_7012794147554217139_n-1.jpg
ORGANIZER;CN="INWC":MAILTO:office@inwc.org
END:VEVENT
BEGIN:VEVENT
DTSTART;TZID=America/Los_Angeles:20240507T190000
DTEND;TZID=America/Los_Angeles:20240507T203000
DTSTAMP:20260423T074052
CREATED:20240418T153011Z
LAST-MODIFIED:20240418T153011Z
UID:6933-1715108400-1715113800@www.inwc.org
SUMMARY:May - General Meeting
DESCRIPTION:Don’t forget Tuesday\, May 7th is our monthly General Meeting.\nOur guest speaker is Jim Billman\, retired Spokane Firefighter/EMT\, former USAF survival instructor\, scuba instructor\, lifeguard who will cover the Every Day Carry (EDC) first aid items you need to carry for yourself or others each time you’re out on the water\, or in the woods whether you’re on foot hiking\, or motoring in your car/truck\, ATV\, SxS\, etc. He is an avid outdoorsman/bush crafter\, who spends a lot of time backpacking\, camping\, mountain biking\, kayaking\, and backcountry motorcycling.\nRemember: Proper Prior Preparation Prevents Pitiful Poor Performance!\nIn addition\, Dan Dzieken\, Water Access Mgr for WDFW will share a volunteer project that we can assist with at a number of public launches this season.\nRefreshments at 6:30\, see you there!
URL:https://www.inwc.org/event/may-general-meeting/
LOCATION:Inland Northwest Wildlife Council\, 6116 N Market Street\, Spokane\, WA\, 99208\, United States
ATTACH;FMTTYPE=image/jpeg:https://www.inwc.org/wp-content/uploads/2024/04/67308.jpeg
ORGANIZER;CN="INWC":MAILTO:office@inwc.org
END:VEVENT
BEGIN:VEVENT
DTSTART;TZID=America/Los_Angeles:20240423T170000
DTEND;TZID=America/Los_Angeles:20240423T210000
DTSTAMP:20260423T074052
CREATED:20240327T183839Z
LAST-MODIFIED:20240327T194802Z
UID:6855-1713891600-1713906000@www.inwc.org
SUMMARY:Rod Building Night
DESCRIPTION:Come join us as we assemble and rig fishing rods for the Kids Fishing Day event coming up on May 11th. Bring a pair of needle nose pliers and jump in and join the fun!
URL:https://www.inwc.org/event/rod-building-night/
LOCATION:6116 N Market\, Spokane\, WA\, 99208\, United States
ATTACH;FMTTYPE=image/jpeg:https://www.inwc.org/wp-content/uploads/2024/03/428693340_795751792569722_3307092707330856604_n.jpg
ORGANIZER;CN="INWC":MAILTO:office@inwc.org
END:VEVENT
BEGIN:VEVENT
DTSTART;TZID=America/Los_Angeles:20240406T093000
DTEND;TZID=America/Los_Angeles:20240406T160000
DTSTAMP:20260423T074052
CREATED:20240327T181807Z
LAST-MODIFIED:20240327T181807Z
UID:6845-1712395800-1712419200@www.inwc.org
SUMMARY:ADA Open House
DESCRIPTION:Join us as we unlock Access and Opportunities throughout NE Washington:\nGaining a Disabled Endorsement from WDFW\nReduced Rates\nThe role of the “companion Hunter”\nPrivate Lands\nState Wildlife Areas\nBehind the gates in the Colville Nat’l Forest\nNon-Profit programs and more\nRefreshments and Lunch Provided!\nRSVP Now: access@inwc.org
URL:https://www.inwc.org/event/ada-open-house-3/
LOCATION:6116 N Market\, Spokane\, WA\, 99208\, United States
ATTACH;FMTTYPE=image/jpeg:https://www.inwc.org/wp-content/uploads/2024/03/285159055_4722966854469613_3922969433185890880_n.jpg
ORGANIZER;CN="Disabled Access Team":MAILTO:access@inwc.org
END:VEVENT
BEGIN:VEVENT
DTSTART;TZID=America/Los_Angeles:20240402T183000
DTEND;TZID=America/Los_Angeles:20240402T210000
DTSTAMP:20260423T074052
CREATED:20240327T194127Z
LAST-MODIFIED:20240327T194127Z
UID:6874-1712082600-1712091600@www.inwc.org
SUMMARY:April General Meeting
DESCRIPTION:Join us\, Tuesday\, April 2nd\, as we celebrate the efforts of all our volunteers at the 62nd Big Horn Outdoor Adventure Show.  This will be a potluck celebration\, bring a dish to share. \nIn addition\, the Reardan High School FFA Chapter Agricultural Issues team has developed a presentation about the North American Model of Wildlife Conservation. As part of the contest\, the team must have their topic argument phrased in the form of a question. This year’s question is “Will the North American Model continue to work in Washington despite or in spite of the WDFW Commission?” \nSee you at the INWC!
URL:https://www.inwc.org/event/april-general-meeting/
LOCATION:6116 N Market\, Spokane\, WA\, 99208\, United States
ATTACH;FMTTYPE=image/png:https://www.inwc.org/wp-content/uploads/2024/03/download-1.png
ORGANIZER;CN="INWC":MAILTO:office@inwc.org
END:VEVENT
BEGIN:VEVENT
DTSTART;VALUE=DATE:20231005
DTEND;VALUE=DATE:20231007
DTSTAMP:20260423T074052
CREATED:20230818T213400Z
LAST-MODIFIED:20230821T234523Z
UID:3673-1696464000-1696636799@www.inwc.org
SUMMARY:Disabled Access Route Patroll - Squirrel/Aladdin *Volunteers Needed
DESCRIPTION:Clear deadfall on routes for Road Access Entry Program \nContact Ken McNaughton\, access@inwc.org\, for more information
URL:https://www.inwc.org/event/disabled-access-route-patroll-squirrel-aladdin-volunteers-needed/
LOCATION:WA
END:VEVENT
BEGIN:VEVENT
DTSTART;TZID=America/Los_Angeles:20230921T080000
DTEND;TZID=America/Los_Angeles:20230921T170000
DTSTAMP:20260423T074052
CREATED:20230818T213302Z
LAST-MODIFIED:20230818T214942Z
UID:3671-1695283200-1695315600@www.inwc.org
SUMMARY:Disabled Access Route Patrol - Boundary Mtn *Volunteers needed
DESCRIPTION:Clear deadfall on routes for Road Access Entry Program \nContact Ken McNaughton\, access@inwc.org\, for more information
URL:https://www.inwc.org/event/disabled-access-rout-patrol-boundary-mtn-volunteers-needed/
LOCATION:WA
END:VEVENT
BEGIN:VEVENT
DTSTART;TZID=America/Los_Angeles:20230916T073000
DTEND;TZID=America/Los_Angeles:20230916T170000
DTSTAMP:20260423T074052
CREATED:20230818T213216Z
LAST-MODIFIED:20230818T213216Z
UID:3669-1694849400-1694883600@www.inwc.org
SUMMARY:Disabled Access Platform Install *Volunteers needed
DESCRIPTION:Meet at the INWC warehouse at 7:30 to load the Eagle Scout’s platform then we will caravan to the installation location on Brewer/Mitchell Mountains. \nContact Ken McNaughton\, access@inwc.org\, for more information
URL:https://www.inwc.org/event/disabled-access-platform-install-volunteers-needed/
LOCATION:WA
END:VEVENT
BEGIN:VEVENT
DTSTART;TZID=America/Los_Angeles:20230909T080000
DTEND;TZID=America/Los_Angeles:20230909T120000
DTSTAMP:20260423T074052
CREATED:20230818T213015Z
LAST-MODIFIED:20230818T213015Z
UID:3667-1694246400-1694260800@www.inwc.org
SUMMARY:Disabled Access Platform Assembly *Volunteers Needed
DESCRIPTION:We will be helping assemble an Eagle Scout Project at the INWC warehouse (6116 N Market) \nContact Ken McNaughton\, access@inwc.org\, for more information
URL:https://www.inwc.org/event/disabled-access-platform-assembly-volunteers-needed/
LOCATION:WA
END:VEVENT
BEGIN:VEVENT
DTSTART;VALUE=DATE:20230908
DTEND;VALUE=DATE:20230918
DTSTAMP:20260423T074052
CREATED:20230818T213610Z
LAST-MODIFIED:20230818T213610Z
UID:3675-1694131200-1694995199@www.inwc.org
SUMMARY:INWC Booth at the Spokane County Fair
DESCRIPTION:September 8-17 INWC booth\n*BHS promo\n*membership\n*outreach\n*committee highlights \nVolunteers needed for all shifts\, please contact office@inwc.org or (509) 487-8552 to sign up
URL:https://www.inwc.org/event/inwc-booth-at-the-spokane-county-fair/
LOCATION:WA
END:VEVENT
BEGIN:VEVENT
DTSTART;TZID=America/Los_Angeles:20230905T183000
DTEND;TZID=America/Los_Angeles:20230905T203000
DTSTAMP:20260423T074052
CREATED:20230818T172941Z
LAST-MODIFIED:20230818T194340Z
UID:3654-1693938600-1693945800@www.inwc.org
SUMMARY:INWC Monthly Meeting - National Hunting & Fishing Day
DESCRIPTION:We will have a presentation by Steven Dazey on the upcoming National Hunting and Fishing Day. Join us as we learn about how we can get involved and how kids can participate. Click the link below for more information. \n2023_NHFD_poster_8.5×11 \nWe will also have an INWC volunteer presentation\, committee updates and drawings for in-person attendees. \nDoors open at 6:30\, meeting begins at 7:00. \n**This will be a hybrid meeting if you cannot join us in person you can view the meeting online by clicking HERE \n  \n 
URL:https://www.inwc.org/event/inwc-monthly-meeting-national-hunting-fishing-day/
LOCATION:6116 N Market\, Spokane\, WA\, 99208\, United States
ATTACH;FMTTYPE=image/jpeg:https://www.inwc.org/wp-content/uploads/2021/08/council.jpeg
END:VEVENT
BEGIN:VEVENT
DTSTART;TZID=America/Los_Angeles:20230905T173000
DTEND;TZID=America/Los_Angeles:20230905T183000
DTSTAMP:20260423T074052
CREATED:20230818T181954Z
LAST-MODIFIED:20230818T181954Z
UID:3659-1693935000-1693938600@www.inwc.org
SUMMARY:Fundraising & BHS Committee meeting
DESCRIPTION:Join us as we plan out our upcoming fundraisers and the 2024 Big Horn Show. We have several exciting plans underway\, and we would love to hear your suggestions and ideas! \nThis will be a hybrid meeting – both online (email: info@inwc.org for meeting link)\, and in person at the INWC board room.  \nPizza will be provided for in person attendees\, please RSVP for a pizza headcount.
URL:https://www.inwc.org/event/fundraising-bhs-committee-meeting/
LOCATION:WA
END:VEVENT
BEGIN:VEVENT
DTSTART;TZID=America/Los_Angeles:20230901T190000
DTEND;TZID=America/Los_Angeles:20230901T220000
DTSTAMP:20260423T074052
CREATED:20230818T181424Z
LAST-MODIFIED:20230818T181424Z
UID:3657-1693594800-1693605600@www.inwc.org
SUMMARY:INWC Group Night - Spokane Indians
DESCRIPTION:Join us for a fun night of baseball\, INWC\, & hot dogs! \nTickets are $15 each for admission and a food voucher. Tickets are on sale now at the INWC office or over the phone at (509) 487-8552 \nCatch a game with your INWC friends!
URL:https://www.inwc.org/event/inwc-group-night-spokane-indians/
LOCATION:WA
END:VEVENT
BEGIN:VEVENT
DTSTART;TZID=America/Los_Angeles:20230824T070000
DTEND;TZID=America/Los_Angeles:20230824T170000
DTSTAMP:20260423T074052
CREATED:20230818T212411Z
LAST-MODIFIED:20230818T212411Z
UID:3665-1692860400-1692896400@www.inwc.org
SUMMARY:Disabled Access Patrol - Betty Creek\, phase 2 *Volunteers Needed
DESCRIPTION:Clear deadfall on routes for Road Access Entry Program \nContact Ken McNaughton\, access@inwc.org\, for more information
URL:https://www.inwc.org/event/disabled-access-patrol-betty-creek-phase-2-volunteers-needed/
LOCATION:WA
END:VEVENT
BEGIN:VEVENT
DTSTART;TZID=America/Los_Angeles:20230821T073000
DTEND;TZID=America/Los_Angeles:20230821T120000
DTSTAMP:20260423T074052
CREATED:20230818T210935Z
LAST-MODIFIED:20230818T214926Z
UID:3663-1692603000-1692619200@www.inwc.org
SUMMARY:Disabled Access Platform Install - Volunteers needed.
DESCRIPTION:Eagle Scout candidate and his associates installing platform under INWC supervision on private land reserved for youth and disabled hunters. \nSteamboat Meadows/SR211 \nContact Ken McNaughton access@inwc.org for more information!
URL:https://www.inwc.org/event/disable-access-platform-install-volunteers-needed/
LOCATION:WA
ATTACH;FMTTYPE=image/jpeg:https://www.inwc.org/wp-content/uploads/2020/08/barrier-free.jpg
END:VEVENT
BEGIN:VEVENT
DTSTART;TZID=America/Los_Angeles:20230819T080000
DTEND;TZID=America/Los_Angeles:20230819T120000
DTSTAMP:20260423T074052
CREATED:20230818T205841Z
LAST-MODIFIED:20230818T205841Z
UID:3661-1692432000-1692446400@www.inwc.org
SUMMARY:Disabled Access/Eagle Scouts - Platform Assembly
DESCRIPTION:An Eagle Scout candidate and associates will be assembling a wheelchair platform and ramp\, with INWC supervision.  \nPlease consider bringing a cordless driver and extra batteries.
URL:https://www.inwc.org/event/disabled-access-eagle-scouts-platform-assembly/
LOCATION:WA
END:VEVENT
BEGIN:VEVENT
DTSTART;TZID=America/Los_Angeles:20230805T080000
DTEND;TZID=America/Los_Angeles:20230805T140000
DTSTAMP:20260423T074052
CREATED:20230703T224427Z
LAST-MODIFIED:20230703T224427Z
UID:3597-1691222400-1691244000@www.inwc.org
SUMMARY:INWC Yard Sale
DESCRIPTION:We will be hosting a yard sale fundraiser at the INWC. Contact our office to purchase a table to sell your items at our event\, or stop by for great finds!
URL:https://www.inwc.org/event/inwc-yard-sale/
LOCATION:WA
END:VEVENT
BEGIN:VEVENT
DTSTART;TZID=America/Los_Angeles:20230730T103000
DTEND;TZID=America/Los_Angeles:20230730T170000
DTSTAMP:20260423T074052
CREATED:20230703T224221Z
LAST-MODIFIED:20230703T224221Z
UID:3595-1690713000-1690736400@www.inwc.org
SUMMARY:INWC Summer Picnic
DESCRIPTION:Join us at Clear Lake Military Resort for our annual picnic. INWC will be providing burgers and hot dogs. Please bring a side dish to share!
URL:https://www.inwc.org/event/inwc-summer-picnic/
LOCATION:WA
END:VEVENT
BEGIN:VEVENT
DTSTART;TZID=America/Los_Angeles:20230718T183000
DTEND;TZID=America/Los_Angeles:20230718T203000
DTSTAMP:20260423T074052
CREATED:20230703T223841Z
LAST-MODIFIED:20230703T223841Z
UID:3593-1689705000-1689712200@www.inwc.org
SUMMARY:INWC Board Meeting
DESCRIPTION:The INWC board of trustees will host their monthly meeting at the INWC conference room to discuss council business. Visitors welcome
URL:https://www.inwc.org/event/inwc-board-meeting-5/
LOCATION:WA
END:VEVENT
BEGIN:VEVENT
DTSTART;TZID=America/Los_Angeles:20230715T110000
DTEND;TZID=America/Los_Angeles:20230715T160000
DTSTAMP:20260423T074052
CREATED:20230322T233827Z
LAST-MODIFIED:20230322T233827Z
UID:3484-1689418800-1689436800@www.inwc.org
SUMMARY:Rock Wheelers - Jacked Up Big Show
DESCRIPTION:Rock Wheelers\, a local non-profit\, has generously offered to host a fundraiser with the proceeds benefiting the Inland Northwest Wildlife Council. Join us at Harmon Park and visit the car show\, vendor event\, and food trucks. There will also be three live bands\, raffles\, face painting\, and kid games. Stop by and say thank you to Rock Wheelers for supporting the INWC!
URL:https://www.inwc.org/event/rock-wheelers-jacked-up-big-show/
LOCATION:Harmon Park\, 6018 N Regal St\, Spokane\, WA\, 99208\, United States
ATTACH;FMTTYPE=image/webp:https://www.inwc.org/wp-content/uploads/2023/03/2023-Jacked-up-Big-Show-sponsor.webp
END:VEVENT
BEGIN:VEVENT
DTSTART;VALUE=DATE:20230714
DTEND;VALUE=DATE:20230717
DTSTAMP:20260423T074052
CREATED:20230322T231731Z
LAST-MODIFIED:20230322T231731Z
UID:3474-1689292800-1689551999@www.inwc.org
SUMMARY:*Volunteers Needed* Disabled Access Patrol
DESCRIPTION:Committee chair\, Ken McNaughton\, will head up early on Friday to establish a camp site. Those who wish to can join us Friday\, or just drive up on Saturday morning.  We will patrol the routes on Boundary Mountain.   Whatever we didn’t finish on Saturday\, we will complete on Sunday before returning home.  \nThese annual route patrols are a vital service we provide that allows us a chance to not only inspect our wheelchair platforms for any needed maintenance\, but also to cut away winter deadfall\, ensuring that sportsmen/women with disabilities have access to the entire route provided.  It also gives us a chance to work side by side for a common good and enjoys each other’s company in the spirit of fellowship.  Don’t feel like you have to stay overnight on the mountain with us.  If you can only make it for the day – we would love to have you!  \n  \nContact Ken McNaughton for information and directions \naccess@inwc.org \n 
URL:https://www.inwc.org/event/volunteers-needed-disabled-access-patrol-3/
LOCATION:WA
ATTACH;FMTTYPE=image/jpeg:https://www.inwc.org/wp-content/uploads/2020/03/ADA-eagle-scout-3.jpg
END:VEVENT
BEGIN:VEVENT
DTSTART;TZID=America/Los_Angeles:20230708T080000
DTEND;TZID=America/Los_Angeles:20230708T120000
DTSTAMP:20260423T074052
CREATED:20230703T223720Z
LAST-MODIFIED:20230703T223720Z
UID:3591-1688803200-1688817600@www.inwc.org
SUMMARY:IEPC clean up project
DESCRIPTION:As a way of saying Thank You to the Inland Empire Paper Co for donating 25 family permits to us each year for our disabled hunter program\, we want to help clean up two sites that have a collection of refuse. We need approx 6-8 volunteers. Don’t sit there and think\, “Oh\, they’ll get enough help.” Truth is\, we haven’t been getting enough help on any projects lately. We need you!\n\n\nWe’ll start at 7am on July 8th at the INWC and convoy up to the two sites near Mt Spokane\, and try to finish before noon before the day gets too hot.\n\n\nContact me Ken McNaughton (access@inwc.org) for more info and to let me know we can count on your help!
URL:https://www.inwc.org/event/iepc-clean-up-project/
LOCATION:WA
END:VEVENT
END:VCALENDAR