BEGIN:VCALENDAR
VERSION:2.0
PRODID:-//Inland Northwest Wildlife Council - ECPv6.15.20//NONSGML v1.0//EN
CALSCALE:GREGORIAN
METHOD:PUBLISH
X-WR-CALNAME:Inland Northwest Wildlife Council
X-ORIGINAL-URL:https://www.inwc.org
X-WR-CALDESC:Events for Inland Northwest Wildlife Council
REFRESH-INTERVAL;VALUE=DURATION:PT1H
X-Robots-Tag:noindex
X-PUBLISHED-TTL:PT1H
BEGIN:VTIMEZONE
TZID:America/Los_Angeles
BEGIN:DAYLIGHT
TZOFFSETFROM:-0800
TZOFFSETTO:-0700
TZNAME:PDT
DTSTART:20250309T100000
END:DAYLIGHT
BEGIN:STANDARD
TZOFFSETFROM:-0700
TZOFFSETTO:-0800
TZNAME:PST
DTSTART:20251102T090000
END:STANDARD
BEGIN:DAYLIGHT
TZOFFSETFROM:-0800
TZOFFSETTO:-0700
TZNAME:PDT
DTSTART:20260308T100000
END:DAYLIGHT
BEGIN:STANDARD
TZOFFSETFROM:-0700
TZOFFSETTO:-0800
TZNAME:PST
DTSTART:20261101T090000
END:STANDARD
BEGIN:DAYLIGHT
TZOFFSETFROM:-0800
TZOFFSETTO:-0700
TZNAME:PDT
DTSTART:20270314T100000
END:DAYLIGHT
BEGIN:STANDARD
TZOFFSETFROM:-0700
TZOFFSETTO:-0800
TZNAME:PST
DTSTART:20271107T090000
END:STANDARD
END:VTIMEZONE
BEGIN:VEVENT
DTSTART;TZID=America/Los_Angeles:20260430T173000
DTEND;TZID=America/Los_Angeles:20260430T203000
DTSTAMP:20260423T041317
CREATED:20260409T201057Z
LAST-MODIFIED:20260409T201057Z
UID:10121-1777570200-1777581000@www.inwc.org
SUMMARY:Kids Fishing - Rod Assembly Night
DESCRIPTION:It’s that time of the year again when we begin to look forward to the annual Kids Fishing Day event at Clear Lake.  The biggest hurdle to getting ready for that day is assembling all the rods we will be handing to every kid that comes to the event.  So\, grab your needle nose pliers\, multi-tool\, etc and join the INWC\, Fish & Wildlife\, and other non-profits and gather at the INWC on April 30th\, 5:30pm to 8:30pm. \n  \nMany hands make light work!  Isn’t that what they say?  It’s true!
URL:https://www.inwc.org/event/kids-fishing-rod-assembly-night/
LOCATION:6116 N Market\, Spokane\, WA\, 99208\, United States
ATTACH;FMTTYPE=image/jpeg:https://www.inwc.org/wp-content/uploads/2026/04/484743355_1055379873273578_3820758043438521493_n.jpg
ORGANIZER;CN="Fishing":MAILTO:fishing@inwc.org
END:VEVENT
BEGIN:VEVENT
DTSTART;TZID=America/Los_Angeles:20260509T080000
DTEND;TZID=America/Los_Angeles:20260509T160000
DTSTAMP:20260423T041317
CREATED:20260409T202536Z
LAST-MODIFIED:20260409T202536Z
UID:10127-1778313600-1778342400@www.inwc.org
SUMMARY:Kids Fishing Day!
DESCRIPTION:Yayyyyy!  It’s finally here.  Kids Fishing Day! \nBring your kids\, your grandkids\, your neighbors’ kids to our Annual Kids Fishing Day at Clear Lake\, May 9th.  First wave of kids starts at 8am.  Register your kids by downloading the sign-up form and mail it in today! \nwdfw.wa.gov/sites/default/files/fishing/youth/2026/2026-clear-lake-kids-fishing-event-registration-form.pdf \nEvery child registered will upon arrival receive a commemorative t-shirt for the event\, a bottle of water\, a bag to carry their fish in\, and a fishing rod that they get to keep.  I know\, sounds incredible\, right?  Download the form\, write the check\, mail it in today.  Let’s get some kids off the x-box and hooked on fishing!!
URL:https://www.inwc.org/event/kids-fishing-day-3/
ATTACH;FMTTYPE=image/jpeg:https://www.inwc.org/wp-content/uploads/2026/04/484847805_1056334169844815_3802260384934503199_n.jpg
ORGANIZER;CN="INWC Fishing Team":MAILTO:fishing@inwc.org
END:VEVENT
BEGIN:VEVENT
DTSTART;VALUE=DATE:20260516
DTEND;VALUE=DATE:20260517
DTSTAMP:20260423T041317
CREATED:20260102T212004Z
LAST-MODIFIED:20260421T210453Z
UID:9394-1778889600-1778975999@www.inwc.org
SUMMARY:Route Patrol - Brewer and Mitchell Mtns
DESCRIPTION:Feel free to join us for our annual volunteer work party to assist the Forest Service with keeping disabled hunter routes accessible. We will meet at “The Meadows” on Sand Canyon Rd\, NW of Chewelah. This is a two-mountain project. If we have enough volunteers (yes\, that means you!)\, we will send one team up Brewer Mtn\, and the other team up Mitchell Mtn. Historically\, there has not been a whole lot of work required on Brewer. If that team wraps their patrol early\, they will meet up with the team on Mitchell and assist in completing that route before returning to camp.\n\n\nAn advance crew will arrive at The Meadows either late Thursday or early Friday to scout the two routes and determine how much work/clearing is needed. Feel free to join us Friday night and spend the weekend.\n\n\nClothing appropriate for the work and expected weather is required. Also: water/snacks for the patrol\, as well as loppers\, chainsaw\, gloves\, bug repellant\, etc.\n\n\nLocation: The Meadows\nhttps://www.google.com/maps/dir/47.650347\,-117.2528421/48.383154\,-117.636812/@48.0168306\,-117.4982831\,9z/data=!3m1!4b1!4m11!1m5!3m4!2zNDjCsDIyJzU5LjQiTiAxMTfCsDM4JzEyLjUiVw!8m2!3d48.383154!4d-117.636812!4m4!1m1!4e1!1m0!3e0?entry=ttu
URL:https://www.inwc.org/event/route-patrol-brewer-and-mitchell-mtns/
ATTACH;FMTTYPE=image/jpeg:https://www.inwc.org/wp-content/uploads/2026/01/Brewer-Mtn.jpg
END:VEVENT
BEGIN:VEVENT
DTSTART;VALUE=DATE:20260620
DTEND;VALUE=DATE:20260621
DTSTAMP:20260423T041317
CREATED:20260102T214543Z
LAST-MODIFIED:20260409T205456Z
UID:9398-1781913600-1781999999@www.inwc.org
SUMMARY:Route Patrol - Aladdin Mtn & Squirrel Mdws - Father's Day Special!
DESCRIPTION:Pack up the family and get them into the mountains for the weekend! In addition to clearing trail for disabled hunters\, you get to spend some quality time with your family and other families – compete in a chili cook-off\, play some cornhole\, and learn some valuable outdoor skills like starting a fire\, using a compass\, and building an emergency shelter for survival.\n\n\n\n\nThis is an all-family event. After we complete our route patrol for the day\, be prepared to stay the night at camp where we will have a cornhole tourney and Chili Cook-Off\, and learn some outdoor skills!\nWe will meet at “Tiger Meadows” just off of SR 20\, W of Ione. This is a two-mountain project. If we have enough volunteers (yes\, that means you!)\, we will send one team up Aladdin Mtn\, and the other team backtrack to Blueslide and work Squirrel Meadows\, off of the Ruby Cr Rd. Both teams will rendezvous back at Tiger Meadows\, just W of the Hanks Butte Rd for the above-mentioned festivities.\n\n\nAn advance crew will arrive at Tiger Meadows either late Thursday or early Friday to scout the two routes and determine how much work/clearing is needed.\n\n\nClothing appropriate for the work and expected weather is required. Also: water/snacks for the patrol\, as well as loppers\, chainsaw\, gloves\, bug repellant\, etc. If you’re staying Saturday night with us\, bring a set of Cornhole boards!\n\n\nCome on! Join the crew! Fun\, Forest\, Food\, and Fellowship! Let’s get outside!\n\n\nPlease RSVP with Lauren at the Office: 509-487-8552 or email the team at: access@inwc.org\n\n\nLocation:https://maps.app.goo.gl/F2HgAyEh3MeCg3J46 \n\n\nSee less
URL:https://www.inwc.org/event/route-patrol-aladdin-mtn-squirrel-meadows-2/
ATTACH;FMTTYPE=image/jpeg:https://www.inwc.org/wp-content/uploads/2026/01/186255512_3596633307102979_680527933769614937_n.jpg
ORGANIZER;CN="Disabled Access Team":MAILTO:access@inwc.org
END:VEVENT
BEGIN:VEVENT
DTSTART;VALUE=DATE:20260625
DTEND;VALUE=DATE:20260627
DTSTAMP:20260423T041317
CREATED:20260102T220402Z
LAST-MODIFIED:20260102T220731Z
UID:9402-1782345600-1782518399@www.inwc.org
SUMMARY:Route Patrol - Betty Cr & Boulder Mtn
DESCRIPTION:Feel free to join us for our annual volunteer work party to assist the Forest Service with keeping disabled hunter routes accessible.\n\n\nWe will meet at the open meadow near the gate to the 810 road up on Betty Cr. This is a two-mountain project. We will patrol the two routes with UTV’s/Quads on Betty Creek first – both the 810 and 830 Routes. We will return to the staging area and establish a primitive camp for the night.\n\n\nThe next morning\, we will load up and head further up the road to a staging area on the Little Boulder Cr Rd. Then will overland with our UTV’s and Quads over Togo Mtn to the gate on Boundary Mtn. From there we will patrol\, have lunch at a site with an overlook of Grand Forks\, BC\, then return to the staging area and head home.\n\n\nClothing appropriate for the work and expected weather is required. Also: water/snacks for the patrol\, as well as loppers\, chainsaw\, gloves\, bug repellant\, etc.\n  \nLocation: \nhttps://maps.app.goo.gl/GfgYkPKmATqHgNA98
URL:https://www.inwc.org/event/route-patrol-betty-cr-boulder-mtn/
ATTACH;FMTTYPE=image/jpeg:https://www.inwc.org/wp-content/uploads/2026/01/Boundary-Mtn.jpg
END:VEVENT
END:VCALENDAR